BEGIN:VCALENDAR
VERSION:2.0
PRODID:-//Waterford Foundation - ECPv6.15.20//NONSGML v1.0//EN
CALSCALE:GREGORIAN
METHOD:PUBLISH
X-WR-CALNAME:Waterford Foundation
X-ORIGINAL-URL:https://www.waterfordfoundation.org
X-WR-CALDESC:Events for Waterford Foundation
REFRESH-INTERVAL;VALUE=DURATION:PT1H
X-Robots-Tag:noindex
X-PUBLISHED-TTL:PT1H
BEGIN:VTIMEZONE
TZID:America/New_York
BEGIN:DAYLIGHT
TZOFFSETFROM:-0500
TZOFFSETTO:-0400
TZNAME:EDT
DTSTART:20250309T070000
END:DAYLIGHT
BEGIN:STANDARD
TZOFFSETFROM:-0400
TZOFFSETTO:-0500
TZNAME:EST
DTSTART:20251102T060000
END:STANDARD
BEGIN:DAYLIGHT
TZOFFSETFROM:-0500
TZOFFSETTO:-0400
TZNAME:EDT
DTSTART:20260308T070000
END:DAYLIGHT
BEGIN:STANDARD
TZOFFSETFROM:-0400
TZOFFSETTO:-0500
TZNAME:EST
DTSTART:20261101T060000
END:STANDARD
BEGIN:DAYLIGHT
TZOFFSETFROM:-0500
TZOFFSETTO:-0400
TZNAME:EDT
DTSTART:20270314T070000
END:DAYLIGHT
BEGIN:STANDARD
TZOFFSETFROM:-0400
TZOFFSETTO:-0500
TZNAME:EST
DTSTART:20271107T060000
END:STANDARD
END:VTIMEZONE
BEGIN:VEVENT
DTSTART;TZID=America/New_York:20260418T090000
DTEND;TZID=America/New_York:20260418T170000
DTSTAMP:20260420T041958
CREATED:20260205T200230Z
LAST-MODIFIED:20260205T200230Z
UID:13339-1776502800-1776531600@www.waterfordfoundation.org
SUMMARY:Jewelry Making Workshop
DESCRIPTION:This two-part jewelry workshop explores wire and bead techniques followed by resin jewelry making. In the first session\, learn about wire types\, gauges\, and tools while creating silver wire earrings and an adjustable ring. In the second\, use UV resin\, molds\, and dried florals to craft nature-inspired earrings or pendants
URL:https://www.waterfordfoundation.org/event/jewelry-making-workshop-2/
LOCATION:Waterford Old School\, 40222 Fairfax St\, Waterford\, VA\, 20197
ATTACH;FMTTYPE=image/png:https://www.waterfordfoundation.org/wp-content/uploads/2026/02/Jewelry-Making-Workshop.png
END:VEVENT
BEGIN:VEVENT
DTSTART;TZID=America/New_York:20260418T160000
DTEND;TZID=America/New_York:20260418T173000
DTSTAMP:20260420T041958
CREATED:20251126T020225Z
LAST-MODIFIED:20260205T201408Z
UID:13118-1776528000-1776533400@www.waterfordfoundation.org
SUMMARY:Architecture Walking Tour
DESCRIPTION:  \nExperience the Waterford National Historic Landmark on a guided historic walking tour!  In 1970 the Secretary of the Interior designated Waterford and its rural surround a National Historic Landmark. Well into the 20th century\, most Americans lived and worked on farms or in small towns like this one. Few of these places have remained much as they were. Waterford\, miraculously\, is one that has. Walk with us through time for clues to Waterford’s character and tenacity. It is a story of ordinary people who did extraordinary things. They built a thriving town from wilderness; they endured a long and bloody war that threatened to destroy their home; and in good times and bad they held tightly to their vision of a special place. Preserving the village and its setting as a national site for everyone is the principal mission of the Waterford Foundation. \nThis month’s theme is historic architecture. Come do a deep dive into the built environment of the Village of Waterford\, learn more about the architectural styles prevalent in the Village\, and some of the stories behind some of the well known buildings in Waterford! \nOn your tour\, you will see houses from the mid 18th century to the 21st. The tour begins at the Old School and covers the entire village in about 90 minutes. Tours will run rain or shine\, so come dressed for the weather and wear comfortable walking shoes. \nRegister Here
URL:https://www.waterfordfoundation.org/event/architecture-walking-tour/
LOCATION:Waterford Old School\, 40222 Fairfax St\, Waterford\, VA\, 20197
CATEGORIES:250 Events,Featured Events
ATTACH;FMTTYPE=image/png:https://www.waterfordfoundation.org/wp-content/uploads/2025/11/2026-Walking-Tours.png
END:VEVENT
END:VCALENDAR