BEGIN:VCALENDAR
VERSION:2.0
PRODID:-//Waterford Foundation - ECPv6.15.20//NONSGML v1.0//EN
CALSCALE:GREGORIAN
METHOD:PUBLISH
X-WR-CALNAME:Waterford Foundation
X-ORIGINAL-URL:https://www.waterfordfoundation.org
X-WR-CALDESC:Events for Waterford Foundation
REFRESH-INTERVAL;VALUE=DURATION:PT1H
X-Robots-Tag:noindex
X-PUBLISHED-TTL:PT1H
BEGIN:VTIMEZONE
TZID:America/New_York
BEGIN:DAYLIGHT
TZOFFSETFROM:-0500
TZOFFSETTO:-0400
TZNAME:EDT
DTSTART:20250309T070000
END:DAYLIGHT
BEGIN:STANDARD
TZOFFSETFROM:-0400
TZOFFSETTO:-0500
TZNAME:EST
DTSTART:20251102T060000
END:STANDARD
BEGIN:DAYLIGHT
TZOFFSETFROM:-0500
TZOFFSETTO:-0400
TZNAME:EDT
DTSTART:20260308T070000
END:DAYLIGHT
BEGIN:STANDARD
TZOFFSETFROM:-0400
TZOFFSETTO:-0500
TZNAME:EST
DTSTART:20261101T060000
END:STANDARD
BEGIN:DAYLIGHT
TZOFFSETFROM:-0500
TZOFFSETTO:-0400
TZNAME:EDT
DTSTART:20270314T070000
END:DAYLIGHT
BEGIN:STANDARD
TZOFFSETFROM:-0400
TZOFFSETTO:-0500
TZNAME:EST
DTSTART:20271107T060000
END:STANDARD
END:VTIMEZONE
BEGIN:VEVENT
DTSTART;TZID=America/New_York:20260421T180000
DTEND;TZID=America/New_York:20260421T203000
DTSTAMP:20260421T013756
CREATED:20260318T180959Z
LAST-MODIFIED:20260318T182448Z
UID:13516-1776794400-1776803400@www.waterfordfoundation.org
SUMMARY:Annual Meeting
DESCRIPTION:Annual Meeting & Awards Celebration   \nTuesday\, April 21\, 2026\, 6 pm \nat the Old Waterford School \n40222 Fairfax Street\, Waterford\, Virginia
URL:https://www.waterfordfoundation.org/event/2026-annual-meeting/
LOCATION:Waterford Old School\, 40222 Fairfax St\, Waterford\, VA\, 20197
CATEGORIES:Featured Events
ATTACH;FMTTYPE=image/png:https://www.waterfordfoundation.org/wp-content/uploads/2026/03/annual-Meeting-2.png
END:VEVENT
END:VCALENDAR